BEGIN:VCALENDAR
VERSION:2.0
PRODID:icalendar-ruby
CALSCALE:GREGORIAN
METHOD:PUBLISH
BEGIN:VEVENT
DTSTAMP:20260420T234230Z
UID:11-358465@abcpompano.org
DTSTART:20261008T220000Z
DTEND:20261008T230000Z
CLASS:PUBLIC
CREATED:20260420T184610
DESCRIPTION:Bible Institute
LAST-MODIFIED:20260420T184610
LOCATION:CALL: 267-807-9601. CODE: 624622525#
SUMMARY:Bible Institute 
URL;VALUE=URI:https://www.abcpompano.org/events/bible-institute--11/2026-10
 -08
ATTACH;FILENAME=IMG_2547.jpeg;FMTTYPE=image/jpeg:https://dq5pwpg1q8ru0.clou
 dfront.net/2025/08/25/20/53/10/51ca8cc9-d8d6-444d-9cc5-180d697202bb/IMG_25
 47.jpeg
END:VEVENT
END:VCALENDAR
