BEGIN:VCALENDAR
VERSION:2.0
PRODID:icalendar-ruby
CALSCALE:GREGORIAN
METHOD:PUBLISH
BEGIN:VEVENT
DTSTAMP:20260421T034053Z
UID:10-358648@abcpompano.org
DTSTART:20260915T220000Z
DTEND:20260915T230000Z
CLASS:PUBLIC
CREATED:20260420T212027
DESCRIPTION: Bible Study Tonight! \nJoin us today at 6:00 p.m. in the sanct
 uary of Abyssinian Baptist Church for our Bible Institute session!\n \nCo
 me ready to grow in the Word\, fellowship with one another\, and experienc
 e a fresh move of God! Don’t miss it!
LAST-MODIFIED:20260420T212027
LOCATION:612 NW. 6th St.\, Pompano Beach\, FL 33060
SUMMARY:Bible Institute 
URL;VALUE=URI:https://www.abcpompano.org/events/bible-institute/2026-09-15
ATTACH;FILENAME=IMG_3402.jpeg;FMTTYPE=image/jpeg:https://dq5pwpg1q8ru0.clou
 dfront.net/2025/10/07/13/24/04/3c2a3e53-0306-4bdb-ba10-e42ba48f7604/IMG_34
 02.jpeg
END:VEVENT
END:VCALENDAR
